BEGIN:VCALENDAR
VERSION:2.0
PRODID:-//Darien Boys Hockey - ECPv6.15.20//NONSGML v1.0//EN
CALSCALE:GREGORIAN
METHOD:PUBLISH
X-ORIGINAL-URL:https://darienboyshockey.com
X-WR-CALDESC:Events for Darien Boys Hockey
REFRESH-INTERVAL;VALUE=DURATION:PT1H
X-Robots-Tag:noindex
X-PUBLISHED-TTL:PT1H
BEGIN:VTIMEZONE
TZID:America/New_York
BEGIN:DAYLIGHT
TZOFFSETFROM:-0500
TZOFFSETTO:-0400
TZNAME:EDT
DTSTART:20250309T070000
END:DAYLIGHT
BEGIN:STANDARD
TZOFFSETFROM:-0400
TZOFFSETTO:-0500
TZNAME:EST
DTSTART:20251102T060000
END:STANDARD
BEGIN:DAYLIGHT
TZOFFSETFROM:-0500
TZOFFSETTO:-0400
TZNAME:EDT
DTSTART:20260308T070000
END:DAYLIGHT
BEGIN:STANDARD
TZOFFSETFROM:-0400
TZOFFSETTO:-0500
TZNAME:EST
DTSTART:20261101T060000
END:STANDARD
BEGIN:DAYLIGHT
TZOFFSETFROM:-0500
TZOFFSETTO:-0400
TZNAME:EDT
DTSTART:20270314T070000
END:DAYLIGHT
BEGIN:STANDARD
TZOFFSETFROM:-0400
TZOFFSETTO:-0500
TZNAME:EST
DTSTART:20271107T060000
END:STANDARD
END:VTIMEZONE
BEGIN:VEVENT
DTSTART;TZID=America/New_York:20260304T190000
DTEND;TZID=America/New_York:20260304T210000
DTSTAMP:20260420T095245
CREATED:20260301T175318Z
LAST-MODIFIED:20260303T193215Z
UID:3279-1772650800-1772658000@darienboyshockey.com
SUMMARY:Varsity vs New Canaan (FCIAC Finals)
DESCRIPTION:
URL:https://darienboyshockey.com/event/varsity-vs-new-canaan-fciac-finals/
LOCATION:Martire Family Arena\, 3135 Easton Turnpike\, Fairfield\, CT\, 06825\, United States
CATEGORIES:Varsity
END:VEVENT
BEGIN:VEVENT
DTSTART;TZID=America/New_York:20260314T130000
DTEND;TZID=America/New_York:20260314T150000
DTSTAMP:20260420T095245
CREATED:20260306T173922Z
LAST-MODIFIED:20260312T183753Z
UID:3282-1773493200-1773500400@darienboyshockey.com
SUMMARY:CIAC Quarterfinal vs NWC (@Bennett Rink)
DESCRIPTION:
URL:https://darienboyshockey.com/event/ciac-quarterfinal-vs-winner-nwc-st-joes-tbd/
LOCATION:Bennett Rink\, 1 Circle Street\, West Haven\, CT\, 06516\, United States
CATEGORIES:Varsity
END:VEVENT
BEGIN:VEVENT
DTSTART;TZID=America/New_York:20260318T200000
DTEND;TZID=America/New_York:20260318T220000
DTSTAMP:20260420T095245
CREATED:20260315T152359Z
LAST-MODIFIED:20260315T195221Z
UID:3295-1773864000-1773871200@darienboyshockey.com
SUMMARY:CIAC Semis vs Fairfield Prep (@ Quinnipiac)
DESCRIPTION:
URL:https://darienboyshockey.com/event/ciac-semis-vs-fairfield-prep-tbd-quinnipiac/
LOCATION:Quinnipiac University
CATEGORIES:Varsity
END:VEVENT
END:VCALENDAR